BEGIN:VCALENDAR
VERSION:2.0
PRODID:-//lifelinemo.org//NONSGML kigkonsult.se iCalcreator 2.30.10//
CALSCALE:GREGORIAN
METHOD:PUBLISH
UID:7354dab3-6273-4122-89a2-e69c57a4f6e3
X-WR-CALDESC:
X-WR-RELCALID:143895e66d203c6e540c49a129207498
X-WR-TIMEZONE:America/Chicago
BEGIN:VTIMEZONE
TZID:America/Chicago
BEGIN:STANDARD
TZNAME:CST
DTSTART:20251102T020000
TZOFFSETFROM:-0500
TZOFFSETTO:-0600
RDATE:20261101T020000
END:STANDARD
BEGIN:DAYLIGHT
TZNAME:CDT
DTSTART:20250309T020000
TZOFFSETFROM:-0600
TZOFFSETTO:-0500
RDATE:20260308T020000
RDATE:20270314T020000
END:DAYLIGHT
END:VTIMEZONE
BEGIN:VEVENT
UID:67946410-a87d-4a48-945a-f13bd15ee04a
DTSTAMP:20260421T142152Z
DESCRIPTION:
DTSTART;TZID=America/Chicago:20260217T050000
DTEND;TZID=America/Chicago:20260219T050001
LOCATION:Chillicothe Schools\, Chillicothe\, MO
SUMMARY:School Presentation: Chillicothe Schools
END:VEVENT
END:VCALENDAR
