BEGIN:VCALENDAR
VERSION:2.0
PRODID:-//lifelinemo.org//NONSGML kigkonsult.se iCalcreator 2.30.10//
CALSCALE:GREGORIAN
METHOD:PUBLISH
UID:ac7b3ecd-0c11-4b02-81cb-54681b5f04bd
X-WR-CALDESC:
X-WR-RELCALID:6939411ee3bfcfc434392037b922d33e
X-WR-TIMEZONE:America/Chicago
BEGIN:VTIMEZONE
TZID:America/Chicago
BEGIN:STANDARD
TZNAME:CST
DTSTART:20251102T020000
TZOFFSETFROM:-0500
TZOFFSETTO:-0600
RDATE:20261101T020000
END:STANDARD
BEGIN:DAYLIGHT
TZNAME:CDT
DTSTART:20250309T020000
TZOFFSETFROM:-0600
TZOFFSETTO:-0500
RDATE:20260308T020000
RDATE:20270314T020000
END:DAYLIGHT
END:VTIMEZONE
BEGIN:VEVENT
UID:1219e3ae-1cdf-4879-bc13-5894545ced63
DTSTAMP:20260421T141810Z
DESCRIPTION:
DTSTART;TZID=America/Chicago:20260217T050000
DTEND;TZID=America/Chicago:20260219T050001
LOCATION:Marceline High School\, Marceline\, MO
SUMMARY:School Presentation: Marceline High School
END:VEVENT
END:VCALENDAR
