BEGIN:VCALENDAR
VERSION:2.0
PRODID:-//lifelinemo.org//NONSGML kigkonsult.se iCalcreator 2.30.10//
CALSCALE:GREGORIAN
METHOD:PUBLISH
UID:5ac50edf-ad33-4b0e-ba2c-6152c90a920c
X-WR-CALDESC:
X-WR-RELCALID:870bcee653af8bac751e063ed0c5bd83
X-WR-TIMEZONE:America/Chicago
BEGIN:VTIMEZONE
TZID:America/Chicago
BEGIN:STANDARD
TZNAME:CST
DTSTART:20251102T020000
TZOFFSETFROM:-0500
TZOFFSETTO:-0600
RDATE:20261101T020000
END:STANDARD
BEGIN:DAYLIGHT
TZNAME:CDT
DTSTART:20250309T020000
TZOFFSETFROM:-0600
TZOFFSETTO:-0500
RDATE:20260308T020000
RDATE:20270314T020000
END:DAYLIGHT
END:VTIMEZONE
BEGIN:VEVENT
UID:e111e64e-7110-483d-8707-7f114dad99e2
DTSTAMP:20260421T123010Z
DESCRIPTION:
DTSTART;TZID=America/Chicago:20260223T100000
DTEND;TZID=America/Chicago:20260223T110000
LOCATION:Scotland County Health Department\, 214 W Madison St\, Memphis\, A
 L 63555 US
SUMMARY:Mobile Clinic: Memphis\, MO
END:VEVENT
END:VCALENDAR
