BEGIN:VCALENDAR
VERSION:2.0
PRODID:-//lifelinemo.org//NONSGML kigkonsult.se iCalcreator 2.30.10//
CALSCALE:GREGORIAN
METHOD:PUBLISH
UID:edc55d5f-ac07-4172-a506-30fa3c65f399
X-WR-CALDESC:
X-WR-RELCALID:06ffa0ccf4efb00855acbac3994958f1
X-WR-TIMEZONE:America/Chicago
BEGIN:VTIMEZONE
TZID:America/Chicago
BEGIN:STANDARD
TZNAME:CST
DTSTART:20251102T020000
TZOFFSETFROM:-0500
TZOFFSETTO:-0600
RDATE:20261101T020000
END:STANDARD
BEGIN:DAYLIGHT
TZNAME:CDT
DTSTART:20250309T020000
TZOFFSETFROM:-0600
TZOFFSETTO:-0500
RDATE:20260308T020000
RDATE:20270314T020000
END:DAYLIGHT
END:VTIMEZONE
BEGIN:VEVENT
UID:ab1238c0-2aad-443a-962b-88f4f6975ae1
DTSTAMP:20260421T144426Z
DESCRIPTION:
DTSTART;TZID=America/Chicago:20260224T100000
DTEND;TZID=America/Chicago:20260224T110000
LOCATION:Putnam County Health Department\, 103 N 18th St\, Unionville\, MO 
 63565 US
SUMMARY:Mobile Clinic: Unionville\, MO
END:VEVENT
END:VCALENDAR
