BEGIN:VCALENDAR
VERSION:2.0
PRODID:-//lifelinemo.org//NONSGML kigkonsult.se iCalcreator 2.30.10//
CALSCALE:GREGORIAN
METHOD:PUBLISH
UID:59d81dec-00a5-473b-b755-4f99581272a4
X-WR-CALDESC:
X-WR-RELCALID:7541e9a8cfa2b861a63c12a7ea6b5527
X-WR-TIMEZONE:America/Chicago
BEGIN:VTIMEZONE
TZID:America/Chicago
BEGIN:STANDARD
TZNAME:CST
DTSTART:20251102T020000
TZOFFSETFROM:-0500
TZOFFSETTO:-0600
RDATE:20261101T020000
END:STANDARD
BEGIN:DAYLIGHT
TZNAME:CDT
DTSTART:20250309T020000
TZOFFSETFROM:-0600
TZOFFSETTO:-0500
RDATE:20260308T020000
RDATE:20270314T020000
END:DAYLIGHT
END:VTIMEZONE
BEGIN:VEVENT
UID:209d37a2-b1ed-4392-80b7-020aaf7f09d4
DTSTAMP:20260421T141633Z
DESCRIPTION:
DTSTART;TZID=America/Chicago:20260224T050000
DTEND;TZID=America/Chicago:20260226T050001
LOCATION:Grand River Technical School\, Chillicothe\, MO
SUMMARY:School Presentation: Grand River Technical School
END:VEVENT
END:VCALENDAR
