BEGIN:VCALENDAR
VERSION:2.0
PRODID:-//lifelinemo.org//NONSGML kigkonsult.se iCalcreator 2.30.10//
CALSCALE:GREGORIAN
METHOD:PUBLISH
UID:657a5123-3fb0-4698-bdcf-4743e99a61e3
X-WR-CALDESC:
X-WR-RELCALID:a9a835b4de59a6246b671dd94e3b216e
X-WR-TIMEZONE:America/Chicago
BEGIN:VTIMEZONE
TZID:America/Chicago
BEGIN:STANDARD
TZNAME:CST
DTSTART:20251102T020000
TZOFFSETFROM:-0500
TZOFFSETTO:-0600
RDATE:20261101T020000
END:STANDARD
BEGIN:DAYLIGHT
TZNAME:CDT
DTSTART:20250309T020000
TZOFFSETFROM:-0600
TZOFFSETTO:-0500
RDATE:20260308T020000
RDATE:20270314T020000
END:DAYLIGHT
END:VTIMEZONE
BEGIN:VEVENT
UID:5cf6ae42-e33a-4c71-b756-871fc9e7a0fb
DTSTAMP:20260421T142419Z
DESCRIPTION:
DTSTART;TZID=America/Chicago:20260224T050000
DTEND;TZID=America/Chicago:20260226T050001
LOCATION:South Shelby High School\, Shelbina\, MO
SUMMARY:School Presentation: South Shelby High School
END:VEVENT
END:VCALENDAR
