BEGIN:VCALENDAR
VERSION:2.0
PRODID:-//lifelinemo.org//NONSGML kigkonsult.se iCalcreator 2.30.10//
CALSCALE:GREGORIAN
METHOD:PUBLISH
UID:f52f6c1f-6737-41cf-a502-72c1aefcd8a5
X-WR-CALDESC:
X-WR-RELCALID:1085a4beed4b09f5d2f9c5050f25f7ab
X-WR-TIMEZONE:America/Chicago
BEGIN:VTIMEZONE
TZID:America/Chicago
BEGIN:STANDARD
TZNAME:CST
DTSTART:20251102T020000
TZOFFSETFROM:-0500
TZOFFSETTO:-0600
RDATE:20261101T020000
END:STANDARD
BEGIN:DAYLIGHT
TZNAME:CDT
DTSTART:20250309T020000
TZOFFSETFROM:-0600
TZOFFSETTO:-0500
RDATE:20260308T020000
RDATE:20270314T020000
END:DAYLIGHT
END:VTIMEZONE
BEGIN:VEVENT
UID:741582a8-41de-4ebe-b6b6-0f0f613e2fa6
DTSTAMP:20260421T141949Z
DESCRIPTION:
DTSTART;TZID=America/Chicago:20260224T050000
DTEND;TZID=America/Chicago:20260226T050001
LOCATION:William Matthew Middle School\, Kirksville\, MO
SUMMARY:School Presentation: William Matthew Middle School
END:VEVENT
END:VCALENDAR
