BEGIN:VCALENDAR
VERSION:2.0
PRODID:-//lifelinemo.org//NONSGML kigkonsult.se iCalcreator 2.30.10//
CALSCALE:GREGORIAN
METHOD:PUBLISH
UID:1231047e-1980-4643-a4a6-8c56ae942e61
X-WR-CALDESC:
X-WR-RELCALID:2866ca54216cd5dbc495c6ea54dbd0cb
X-WR-TIMEZONE:America/Chicago
BEGIN:VTIMEZONE
TZID:America/Chicago
BEGIN:STANDARD
TZNAME:CST
DTSTART:20251102T020000
TZOFFSETFROM:-0500
TZOFFSETTO:-0600
RDATE:20261101T020000
END:STANDARD
BEGIN:DAYLIGHT
TZNAME:CDT
DTSTART:20250309T020000
TZOFFSETFROM:-0600
TZOFFSETTO:-0500
RDATE:20260308T020000
RDATE:20270314T020000
END:DAYLIGHT
END:VTIMEZONE
BEGIN:VEVENT
UID:5f43d209-24ce-4452-946e-8837de789609
DTSTAMP:20260421T155247Z
DESCRIPTION:
DTSTART;TZID=America/Chicago:20260303T050000
DTEND;TZID=America/Chicago:20260305T050001
LOCATION:Brookfield High School\, Brookfield\, MO
SUMMARY:School Presentation: Brookfield High School
END:VEVENT
END:VCALENDAR
