BEGIN:VCALENDAR
VERSION:2.0
PRODID:-//lifelinemo.org//NONSGML kigkonsult.se iCalcreator 2.30.10//
CALSCALE:GREGORIAN
METHOD:PUBLISH
UID:ccece76f-218d-4631-bef4-c22a049e5117
X-WR-CALDESC:
X-WR-RELCALID:dac46b670a491b074d875a3412198340
X-WR-TIMEZONE:America/Chicago
BEGIN:VTIMEZONE
TZID:America/Chicago
BEGIN:STANDARD
TZNAME:CST
DTSTART:20251102T020000
TZOFFSETFROM:-0500
TZOFFSETTO:-0600
RDATE:20261101T020000
END:STANDARD
BEGIN:DAYLIGHT
TZNAME:CDT
DTSTART:20250309T020000
TZOFFSETFROM:-0600
TZOFFSETTO:-0500
RDATE:20260308T020000
RDATE:20270314T020000
END:DAYLIGHT
END:VTIMEZONE
BEGIN:VEVENT
UID:1d47dd3c-7eef-4d4a-a03b-ec64a65a6e65
DTSTAMP:20260421T161411Z
DESCRIPTION:
DTSTART;TZID=America/Chicago:20260303T050000
DTEND;TZID=America/Chicago:20260305T050001
LOCATION:Trenton Middle School\, Trenton\, MO
SUMMARY:School Presentation: Trenton Middle School
END:VEVENT
END:VCALENDAR
