BEGIN:VCALENDAR
VERSION:2.0
PRODID:-//lifelinemo.org//NONSGML kigkonsult.se iCalcreator 2.30.10//
CALSCALE:GREGORIAN
METHOD:PUBLISH
UID:0b058bff-5db0-4bba-83bb-2348812fd51e
X-WR-CALDESC:This curriculum certification program includes distinct one-ho
 ur lessons that equip youth with a medically-accurate understanding of pre
 gnancy & human development in the womb\, with up-to-date research and inte
 ractive activities & discussion.
X-WR-RELCALID:86842bcdd0df63bb2da1085ed9371cf2
X-WR-TIMEZONE:America/Chicago
BEGIN:VTIMEZONE
TZID:America/Chicago
BEGIN:STANDARD
TZNAME:CST
DTSTART:20251102T020000
TZOFFSETFROM:-0500
TZOFFSETTO:-0600
RDATE:20261101T020000
END:STANDARD
BEGIN:DAYLIGHT
TZNAME:CDT
DTSTART:20250309T020000
TZOFFSETFROM:-0600
TZOFFSETTO:-0500
RDATE:20260308T020000
RDATE:20270314T020000
END:DAYLIGHT
END:VTIMEZONE
BEGIN:VEVENT
UID:847da0e2-c58d-4209-b6bb-5658b4f48057
DTSTAMP:20260421T141539Z
DESCRIPTION:This curriculum certification program includes distinct one-hou
 r lessons that equip youth with a medically-accurate understanding of preg
 nancy & human development in the womb\, with up-to-date research and inter
 active activities & discussion.
DTSTART;TZID=America/Chicago:20260307T090000
DTEND;TZID=America/Chicago:20260307T160000
LOCATION:2740 Happy Joe Dr\, STE 2\, Bettendorf\, IA 52722 US
SUMMARY:Human Growth & Development Curriculum Training - Bettendorf
END:VEVENT
END:VCALENDAR
