BEGIN:VCALENDAR
VERSION:2.0
PRODID:-//lifelinemo.org//NONSGML kigkonsult.se iCalcreator 2.30.10//
CALSCALE:GREGORIAN
METHOD:PUBLISH
UID:fabb7941-ebbf-42c3-b5ab-7ba77cc42fdb
X-WR-CALDESC:
X-WR-RELCALID:37955ccc3b8cc10f10f1c67723c935c1
X-WR-TIMEZONE:America/Chicago
BEGIN:VTIMEZONE
TZID:America/Chicago
BEGIN:STANDARD
TZNAME:CST
DTSTART:20251102T020000
TZOFFSETFROM:-0500
TZOFFSETTO:-0600
RDATE:20261101T020000
END:STANDARD
BEGIN:DAYLIGHT
TZNAME:CDT
DTSTART:20260308T020000
TZOFFSETFROM:-0600
TZOFFSETTO:-0500
RDATE:20270314T020000
END:DAYLIGHT
END:VTIMEZONE
BEGIN:VEVENT
UID:81a88a2e-1e0a-4d99-adc5-921df25cd151
DTSTAMP:20260421T142305Z
DESCRIPTION:
DTSTART;TZID=America/Chicago:20260310T050000
DTEND;TZID=America/Chicago:20260312T050001
LOCATION:Scotland County Schools\, Memphis\, MO
SUMMARY:School Presentation: Scotland County Schools
END:VEVENT
END:VCALENDAR
