BEGIN:VCALENDAR
VERSION:2.0
PRODID:-//lifelinemo.org//NONSGML kigkonsult.se iCalcreator 2.30.10//
CALSCALE:GREGORIAN
METHOD:PUBLISH
UID:92343714-073e-4009-9a66-0e245359d794
X-WR-CALDESC:
X-WR-RELCALID:7b54cfcdb900bc1444de5de0a07ddedf
X-WR-TIMEZONE:America/Chicago
BEGIN:VTIMEZONE
TZID:America/Chicago
BEGIN:STANDARD
TZNAME:CST
DTSTART:20251102T020000
TZOFFSETFROM:-0500
TZOFFSETTO:-0600
RDATE:20261101T020000
END:STANDARD
BEGIN:DAYLIGHT
TZNAME:CDT
DTSTART:20260308T020000
TZOFFSETFROM:-0600
TZOFFSETTO:-0500
RDATE:20270314T020000
END:DAYLIGHT
END:VTIMEZONE
BEGIN:VEVENT
UID:e2ea485a-0ffc-4dbd-89ae-cb939b398f4a
DTSTAMP:20260421T141235Z
DESCRIPTION:
DTSTART;TZID=America/Chicago:20260311T100000
DTEND;TZID=America/Chicago:20260311T110000
LOCATION:Lifeline\, 1515 New Street\, Kirksville\, MO 63501 US
SUMMARY:Connection Groups: Late Pregnancy
END:VEVENT
END:VCALENDAR
