BEGIN:VCALENDAR
VERSION:2.0
PRODID:-//lifelinemo.org//NONSGML kigkonsult.se iCalcreator 2.30.10//
CALSCALE:GREGORIAN
METHOD:PUBLISH
UID:a45a0b22-aeb8-474b-ae4f-072c86281dee
X-WR-CALDESC:
X-WR-RELCALID:4f9c42dda9d5aa3455fd2812856d106f
X-WR-TIMEZONE:America/Chicago
BEGIN:VTIMEZONE
TZID:America/Chicago
BEGIN:STANDARD
TZNAME:CST
DTSTART:20251102T020000
TZOFFSETFROM:-0500
TZOFFSETTO:-0600
RDATE:20261101T020000
END:STANDARD
BEGIN:DAYLIGHT
TZNAME:CDT
DTSTART:20260308T020000
TZOFFSETFROM:-0600
TZOFFSETTO:-0500
RDATE:20270314T020000
END:DAYLIGHT
END:VTIMEZONE
BEGIN:VEVENT
UID:a4083f2e-955d-47b8-9934-ecd449678bdb
DTSTAMP:20260421T154808Z
DESCRIPTION:
DTSTART;TZID=America/Chicago:20260311T050000
DTEND;TZID=America/Chicago:20260313T050001
LOCATION:Bevier School\, Bevier\, MO
SUMMARY:School Presentation: Bevier
END:VEVENT
END:VCALENDAR
