BEGIN:VCALENDAR
VERSION:2.0
PRODID:-//lifelinemo.org//NONSGML kigkonsult.se iCalcreator 2.30.10//
CALSCALE:GREGORIAN
METHOD:PUBLISH
UID:0b801f42-7a76-41cc-b472-2a607c8c0e93
X-WR-CALDESC:
X-WR-RELCALID:fcd9ecebd7fb6e28a3e5f718b0926bff
X-WR-TIMEZONE:America/Chicago
BEGIN:VTIMEZONE
TZID:America/Chicago
BEGIN:STANDARD
TZNAME:CST
DTSTART:20251102T020000
TZOFFSETFROM:-0500
TZOFFSETTO:-0600
RDATE:20261101T020000
END:STANDARD
BEGIN:DAYLIGHT
TZNAME:CDT
DTSTART:20260308T020000
TZOFFSETFROM:-0600
TZOFFSETTO:-0500
RDATE:20270314T020000
END:DAYLIGHT
END:VTIMEZONE
BEGIN:VEVENT
UID:364976f4-1039-44cf-84fe-203b55a5e38d
DTSTAMP:20260421T141956Z
DESCRIPTION:
DTSTART;TZID=America/Chicago:20260317T050000
DTEND;TZID=America/Chicago:20260319T050001
LOCATION:Moberly High School\, Moberly\, MO
SUMMARY:School Presentation: Moberly High School
END:VEVENT
END:VCALENDAR
