BEGIN:VCALENDAR
VERSION:2.0
PRODID:-//lifelinemo.org//NONSGML kigkonsult.se iCalcreator 2.30.10//
CALSCALE:GREGORIAN
METHOD:PUBLISH
UID:ac7f820e-917a-4f05-975e-49935850436e
X-WR-CALDESC:
X-WR-RELCALID:5bd2ece2a8adea3f5ec3711dd7e3c713
X-WR-TIMEZONE:America/Chicago
BEGIN:VTIMEZONE
TZID:America/Chicago
BEGIN:STANDARD
TZNAME:CST
DTSTART:20251102T020000
TZOFFSETFROM:-0500
TZOFFSETTO:-0600
RDATE:20261101T020000
END:STANDARD
BEGIN:DAYLIGHT
TZNAME:CDT
DTSTART:20260308T020000
TZOFFSETFROM:-0600
TZOFFSETTO:-0500
RDATE:20270314T020000
END:DAYLIGHT
END:VTIMEZONE
BEGIN:VEVENT
UID:8de42ff1-434d-4c6e-b47e-c47b2df02374
DTSTAMP:20260421T155632Z
DESCRIPTION:
DTSTART;TZID=America/Chicago:20260317T050000
DTEND;TZID=America/Chicago:20260320T050001
LOCATION:Macon Middle School\, Macon\, MO
SUMMARY:School Presentation: Macon Middle School
END:VEVENT
END:VCALENDAR
