BEGIN:VCALENDAR
VERSION:2.0
PRODID:-//lifelinemo.org//NONSGML kigkonsult.se iCalcreator 2.30.10//
CALSCALE:GREGORIAN
METHOD:PUBLISH
UID:6101e6c5-08ab-4398-bffb-63040bea34e9
X-WR-CALDESC:
X-WR-RELCALID:d7b3b5436f8bd759e1ac0191520303a9
X-WR-TIMEZONE:America/Chicago
BEGIN:VTIMEZONE
TZID:America/Chicago
BEGIN:STANDARD
TZNAME:CST
DTSTART:20251102T020000
TZOFFSETFROM:-0500
TZOFFSETTO:-0600
RDATE:20261101T020000
END:STANDARD
BEGIN:DAYLIGHT
TZNAME:CDT
DTSTART:20260308T020000
TZOFFSETFROM:-0600
TZOFFSETTO:-0500
RDATE:20270314T020000
END:DAYLIGHT
END:VTIMEZONE
BEGIN:VEVENT
UID:fd6f861a-b17c-4013-8da9-15a860388c9f
DTSTAMP:20260421T160155Z
DESCRIPTION:
DTSTART;TZID=America/Chicago:20260317T050000
DTEND;TZID=America/Chicago:20260320T050001
LOCATION:Van Far School District\, Vandalia\, MO
SUMMARY:School Presentation: Van Far School District
END:VEVENT
END:VCALENDAR
