BEGIN:VCALENDAR
VERSION:2.0
PRODID:-//lifelinemo.org//NONSGML kigkonsult.se iCalcreator 2.30.10//
CALSCALE:GREGORIAN
METHOD:PUBLISH
UID:6575c2f1-d75c-4206-8c16-8bf5676689e3
X-WR-CALDESC:
X-WR-RELCALID:e00802f9cdae5f0a6e2cd3b32a7214a3
X-WR-TIMEZONE:America/Chicago
BEGIN:VTIMEZONE
TZID:America/Chicago
BEGIN:STANDARD
TZNAME:CST
DTSTART:20251102T020000
TZOFFSETFROM:-0500
TZOFFSETTO:-0600
RDATE:20261101T020000
END:STANDARD
BEGIN:DAYLIGHT
TZNAME:CDT
DTSTART:20260308T020000
TZOFFSETFROM:-0600
TZOFFSETTO:-0500
RDATE:20270314T020000
END:DAYLIGHT
END:VTIMEZONE
BEGIN:VEVENT
UID:d16b5059-3950-4d56-838f-9a4f8654df50
DTSTAMP:20260421T141930Z
DESCRIPTION:
DTSTART;TZID=America/Chicago:20260323T050000
DTEND;TZID=America/Chicago:20260324T050001
LOCATION:Macon Middle School\, Macon\, MO
SUMMARY:School Presentation: Macon Middle School
END:VEVENT
END:VCALENDAR
