BEGIN:VCALENDAR
VERSION:2.0
PRODID:-//lifelinemo.org//NONSGML kigkonsult.se iCalcreator 2.30.10//
CALSCALE:GREGORIAN
METHOD:PUBLISH
UID:340721b7-851c-4a5c-8e17-77b8161c26fc
X-WR-CALDESC:
X-WR-RELCALID:80a2e13b60e8e9dd4bc9fb38e6a9424c
X-WR-TIMEZONE:America/Chicago
BEGIN:VTIMEZONE
TZID:America/Chicago
BEGIN:STANDARD
TZNAME:CST
DTSTART:20251102T020000
TZOFFSETFROM:-0500
TZOFFSETTO:-0600
RDATE:20261101T020000
END:STANDARD
BEGIN:DAYLIGHT
TZNAME:CDT
DTSTART:20260308T020000
TZOFFSETFROM:-0600
TZOFFSETTO:-0500
RDATE:20270314T020000
END:DAYLIGHT
END:VTIMEZONE
BEGIN:VEVENT
UID:691a1064-c696-49e1-a085-6cce552ca7d2
DTSTAMP:20260421T142305Z
DESCRIPTION:
DTSTART;TZID=America/Chicago:20260324T050000
DTEND;TZID=America/Chicago:20260326T050001
LOCATION:Mark Twain High School\, Center\, MO
SUMMARY:School Presentation: Mark Twain High School
END:VEVENT
END:VCALENDAR
