BEGIN:VCALENDAR
VERSION:2.0
PRODID:-//lifelinemo.org//NONSGML kigkonsult.se iCalcreator 2.30.10//
CALSCALE:GREGORIAN
METHOD:PUBLISH
UID:b4cae1f3-f0ec-4eaf-88a5-a9e890b2538a
X-WR-CALDESC:
X-WR-RELCALID:cee30fba3b2674d3e8ef03671ff32a05
X-WR-TIMEZONE:America/Chicago
BEGIN:VTIMEZONE
TZID:America/Chicago
BEGIN:STANDARD
TZNAME:CST
DTSTART:20251102T020000
TZOFFSETFROM:-0500
TZOFFSETTO:-0600
RDATE:20261101T020000
END:STANDARD
BEGIN:DAYLIGHT
TZNAME:CDT
DTSTART:20260308T020000
TZOFFSETFROM:-0600
TZOFFSETTO:-0500
RDATE:20270314T020000
END:DAYLIGHT
END:VTIMEZONE
BEGIN:VEVENT
UID:8cb8c4b9-1158-4812-ae39-8514bf53c899
DTSTAMP:20260421T154746Z
DESCRIPTION:
DTSTART;TZID=America/Chicago:20260324T050000
DTEND;TZID=America/Chicago:20260326T050001
LOCATION:La Plata High School\, La Plata\, MO
SUMMARY:School Presentation: La Plata R-II
END:VEVENT
END:VCALENDAR
