BEGIN:VCALENDAR
VERSION:2.0
PRODID:-//lifelinemo.org//NONSGML kigkonsult.se iCalcreator 2.30.10//
CALSCALE:GREGORIAN
METHOD:PUBLISH
UID:f688a0a4-f864-4cf2-8549-08220b5991cc
X-WR-CALDESC:
X-WR-RELCALID:4f813efad04989570ea550ba9ba00afe
X-WR-TIMEZONE:America/Chicago
BEGIN:VTIMEZONE
TZID:America/Chicago
BEGIN:STANDARD
TZNAME:CST
DTSTART:20251102T020000
TZOFFSETFROM:-0500
TZOFFSETTO:-0600
RDATE:20261101T020000
END:STANDARD
BEGIN:DAYLIGHT
TZNAME:CDT
DTSTART:20260308T020000
TZOFFSETFROM:-0600
TZOFFSETTO:-0500
RDATE:20270314T020000
END:DAYLIGHT
END:VTIMEZONE
BEGIN:VEVENT
UID:e5e1c090-eb25-4adc-9711-934826e1858c
DTSTAMP:20260421T155945Z
DESCRIPTION:
DTSTART;TZID=America/Chicago:20260325T050000
DTEND;TZID=America/Chicago:20260327T050001
LOCATION:Tina Avalon School District\, Tina\, MO
SUMMARY:School Presentation: Tina Avalon School District
END:VEVENT
END:VCALENDAR
