BEGIN:VCALENDAR
VERSION:2.0
PRODID:-//lifelinemo.org//NONSGML kigkonsult.se iCalcreator 2.30.10//
CALSCALE:GREGORIAN
METHOD:PUBLISH
UID:0f0bfb3c-60e1-406f-a9b1-ad5b6177fd10
X-WR-CALDESC:
X-WR-RELCALID:6784f6333606a658f5d7e9c89a1729c0
X-WR-TIMEZONE:America/Chicago
BEGIN:VTIMEZONE
TZID:America/Chicago
BEGIN:STANDARD
TZNAME:CST
DTSTART:20251102T020000
TZOFFSETFROM:-0500
TZOFFSETTO:-0600
RDATE:20261101T020000
END:STANDARD
BEGIN:DAYLIGHT
TZNAME:CDT
DTSTART:20260308T020000
TZOFFSETFROM:-0600
TZOFFSETTO:-0500
RDATE:20270314T020000
END:DAYLIGHT
END:VTIMEZONE
BEGIN:VEVENT
UID:e2e0c8dc-bf16-4f63-b096-260d782834e1
DTSTAMP:20260421T141229Z
DESCRIPTION:
DTSTART;TZID=America/Chicago:20260407T050000
DTEND;TZID=America/Chicago:20260409T050001
LOCATION:Adair Co. R-1 School\, Novinger\, MO
SUMMARY:School Presentation: Adair Co. R-1 School
END:VEVENT
END:VCALENDAR
