BEGIN:VCALENDAR
VERSION:2.0
PRODID:-//lifelinemo.org//NONSGML kigkonsult.se iCalcreator 2.30.10//
CALSCALE:GREGORIAN
METHOD:PUBLISH
UID:31dd3b73-1357-4c1d-86f6-1f52a4b3ffc0
X-WR-CALDESC:
X-WR-RELCALID:a92c1276f4ad6597b6f691708e1563f6
X-WR-TIMEZONE:America/Chicago
BEGIN:VTIMEZONE
TZID:America/Chicago
BEGIN:STANDARD
TZNAME:CST
DTSTART:20251102T020000
TZOFFSETFROM:-0500
TZOFFSETTO:-0600
RDATE:20261101T020000
END:STANDARD
BEGIN:DAYLIGHT
TZNAME:CDT
DTSTART:20260308T020000
TZOFFSETFROM:-0600
TZOFFSETTO:-0500
RDATE:20270314T020000
END:DAYLIGHT
END:VTIMEZONE
BEGIN:VEVENT
UID:32e3069c-b53b-4b28-b74c-b9e8c6f241bb
DTSTAMP:20260421T144325Z
DESCRIPTION:
DTSTART;TZID=America/Chicago:20260407T050000
DTEND;TZID=America/Chicago:20260409T050001
LOCATION:North Shelby High School\, Shelbyville\, MO
SUMMARY:School Presentation: North Shelby High School
END:VEVENT
END:VCALENDAR
