BEGIN:VCALENDAR
VERSION:2.0
PRODID:-//lifelinemo.org//NONSGML kigkonsult.se iCalcreator 2.30.10//
CALSCALE:GREGORIAN
METHOD:PUBLISH
UID:ba4a4e44-6be5-4050-998f-16c5500b098d
X-WR-CALDESC:Lifeline Services Presents Mark Schultz with Special Guest Mic
 key Bell
X-WR-RELCALID:cf1ca93001065c7956976406ed3ab703
X-WR-TIMEZONE:America/Chicago
BEGIN:VTIMEZONE
TZID:America/Chicago
BEGIN:STANDARD
TZNAME:CST
DTSTART:20251102T020000
TZOFFSETFROM:-0500
TZOFFSETTO:-0600
RDATE:20261101T020000
END:STANDARD
BEGIN:DAYLIGHT
TZNAME:CDT
DTSTART:20260308T020000
TZOFFSETFROM:-0600
TZOFFSETTO:-0500
RDATE:20270314T020000
END:DAYLIGHT
END:VTIMEZONE
BEGIN:VEVENT
UID:3347e5ac-cbd8-4e62-884e-844e4dd29c3c
DTSTAMP:20260421T124805Z
DESCRIPTION:Lifeline Services Presents Mark Schultz with Special Guest Mick
 ey Bell
DTSTART;TZID=America/Chicago:20260410T180000
DTEND;TZID=America/Chicago:20260410T210000
LOCATION:810 E Shepherd Ave\, Kirksville\, MO 63501 US
SUMMARY:A Night of Music & Laughter
END:VEVENT
END:VCALENDAR
