BEGIN:VCALENDAR
VERSION:2.0
PRODID:-//lifelinemo.org//NONSGML kigkonsult.se iCalcreator 2.30.10//
CALSCALE:GREGORIAN
METHOD:PUBLISH
UID:24c03218-5717-4c5d-9ef2-56874972e750
X-WR-CALDESC:
X-WR-RELCALID:48635ec3128b6095db11dea87146a988
X-WR-TIMEZONE:America/Chicago
BEGIN:VTIMEZONE
TZID:America/Chicago
BEGIN:STANDARD
TZNAME:CST
DTSTART:20251102T020000
TZOFFSETFROM:-0500
TZOFFSETTO:-0600
RDATE:20261101T020000
END:STANDARD
BEGIN:DAYLIGHT
TZNAME:CDT
DTSTART:20260308T020000
TZOFFSETFROM:-0600
TZOFFSETTO:-0500
RDATE:20270314T020000
END:DAYLIGHT
END:VTIMEZONE
BEGIN:VEVENT
UID:ea03d2d8-e4cc-44f9-b65a-d83a6f08b8e6
DTSTAMP:20260421T141126Z
DESCRIPTION:
DTSTART;TZID=America/Chicago:20260414T050000
DTEND;TZID=America/Chicago:20260416T050001
LOCATION:Milan High School\, Milan\, MO
SUMMARY:School Presentation: Milan High School
END:VEVENT
END:VCALENDAR
