BEGIN:VCALENDAR
VERSION:2.0
PRODID:-//lifelinemo.org//NONSGML kigkonsult.se iCalcreator 2.30.10//
CALSCALE:GREGORIAN
METHOD:PUBLISH
UID:c5cfcb45-3ae7-40c9-8e25-5b9d5a9aebf3
X-WR-CALDESC:
X-WR-RELCALID:0da709098bdf20621520fa9f3475d8f8
X-WR-TIMEZONE:America/Chicago
BEGIN:VTIMEZONE
TZID:America/Chicago
BEGIN:STANDARD
TZNAME:CST
DTSTART:20251102T020000
TZOFFSETFROM:-0500
TZOFFSETTO:-0600
RDATE:20261101T020000
END:STANDARD
BEGIN:DAYLIGHT
TZNAME:CDT
DTSTART:20260308T020000
TZOFFSETFROM:-0600
TZOFFSETTO:-0500
RDATE:20270314T020000
END:DAYLIGHT
END:VTIMEZONE
BEGIN:VEVENT
UID:bccfd63f-6a81-4856-a43b-b8e667e18695
DTSTAMP:20260421T144332Z
DESCRIPTION:
DTSTART;TZID=America/Chicago:20260413T050000
DTEND;TZID=America/Chicago:20260416T050001
LOCATION:Pella Christian School\, Pella\, IA
SUMMARY:School Presentation: Pella Christian School
END:VEVENT
END:VCALENDAR
