BEGIN:VCALENDAR
VERSION:2.0
PRODID:-//lifelinemo.org//NONSGML kigkonsult.se iCalcreator 2.30.10//
CALSCALE:GREGORIAN
METHOD:PUBLISH
UID:b6e91aea-70be-4cb2-84dc-c6e0507bf406
X-WR-CALDESC:
X-WR-RELCALID:4ec3041240ba3881df7b70c9f0c2e79c
X-WR-TIMEZONE:America/Chicago
BEGIN:VTIMEZONE
TZID:America/Chicago
BEGIN:STANDARD
TZNAME:CST
DTSTART:20251102T020000
TZOFFSETFROM:-0500
TZOFFSETTO:-0600
RDATE:20261101T020000
END:STANDARD
BEGIN:DAYLIGHT
TZNAME:CDT
DTSTART:20260308T020000
TZOFFSETFROM:-0600
TZOFFSETTO:-0500
RDATE:20270314T020000
END:DAYLIGHT
END:VTIMEZONE
BEGIN:VEVENT
UID:8405a6a0-7072-45c2-9bda-2e95eb7e122f
DTSTAMP:20260421T123734Z
DESCRIPTION:
DTSTART;TZID=America/Chicago:20260421T133000
DTEND;TZID=America/Chicago:20260421T150000
LOCATION:Sullivan County Health Department\, 101 Hawthorne Dr\, Milan\, MO 
 63556 US
SUMMARY:Mobile Clinic: Milan\, MO
END:VEVENT
END:VCALENDAR
