BEGIN:VCALENDAR
VERSION:2.0
PRODID:-//lifelinemo.org//NONSGML kigkonsult.se iCalcreator 2.30.10//
CALSCALE:GREGORIAN
METHOD:PUBLISH
UID:aa2a3cf9-16fb-411e-b58f-4f6dddb7df3f
X-WR-CALDESC:
X-WR-RELCALID:e7d5173340d5f86e1875a801b03f0af0
X-WR-TIMEZONE:America/Chicago
BEGIN:VTIMEZONE
TZID:America/Chicago
BEGIN:STANDARD
TZNAME:CST
DTSTART:20251102T020000
TZOFFSETFROM:-0500
TZOFFSETTO:-0600
RDATE:20261101T020000
END:STANDARD
BEGIN:DAYLIGHT
TZNAME:CDT
DTSTART:20260308T020000
TZOFFSETFROM:-0600
TZOFFSETTO:-0500
RDATE:20270314T020000
END:DAYLIGHT
END:VTIMEZONE
BEGIN:VEVENT
UID:fbb84aa4-5a07-4ed9-96c7-4ec0d25a5dc1
DTSTAMP:20260422T085337Z
DESCRIPTION:
DTSTART;TZID=America/Chicago:20260421T050000
DTEND;TZID=America/Chicago:20260423T050001
LOCATION:Clark County Middle School\, Kahoka\, MO
SUMMARY:School Presentation: Clark County Middle School
END:VEVENT
END:VCALENDAR
