BEGIN:VCALENDAR
VERSION:2.0
PRODID:-//lifelinemo.org//NONSGML kigkonsult.se iCalcreator 2.30.10//
CALSCALE:GREGORIAN
METHOD:PUBLISH
UID:4b28164f-2ae6-4718-ba3f-fd2d9df621b3
X-WR-CALDESC:
X-WR-RELCALID:e0b2631b55813693cbab6bcb593e4fad
X-WR-TIMEZONE:America/Chicago
BEGIN:VTIMEZONE
TZID:America/Chicago
BEGIN:STANDARD
TZNAME:CST
DTSTART:20251102T020000
TZOFFSETFROM:-0500
TZOFFSETTO:-0600
RDATE:20261101T020000
END:STANDARD
BEGIN:DAYLIGHT
TZNAME:CDT
DTSTART:20260308T020000
TZOFFSETFROM:-0600
TZOFFSETTO:-0500
RDATE:20270314T020000
END:DAYLIGHT
END:VTIMEZONE
BEGIN:VEVENT
UID:bbbe67e1-1660-4fb8-9949-ec65b61533ed
DTSTAMP:20260422T084133Z
DESCRIPTION:
DTSTART;TZID=America/Chicago:20260421T050000
DTEND;TZID=America/Chicago:20260423T050001
LOCATION:Clark County R-1 Middle School\, Kahoka\, MO
SUMMARY:School Presentation: Clark County R-1 Middle School
END:VEVENT
END:VCALENDAR
