BEGIN:VCALENDAR
VERSION:2.0
PRODID:-//lifelinemo.org//NONSGML kigkonsult.se iCalcreator 2.30.10//
CALSCALE:GREGORIAN
METHOD:PUBLISH
UID:1512f1af-1cec-4c3a-b990-1d654a95e699
X-WR-CALDESC:
X-WR-RELCALID:9144ff1c1fb21d7391a8fde9b1474432
X-WR-TIMEZONE:America/Chicago
BEGIN:VTIMEZONE
TZID:America/Chicago
BEGIN:STANDARD
TZNAME:CST
DTSTART:20251102T020000
TZOFFSETFROM:-0500
TZOFFSETTO:-0600
RDATE:20261101T020000
END:STANDARD
BEGIN:DAYLIGHT
TZNAME:CDT
DTSTART:20260308T020000
TZOFFSETFROM:-0600
TZOFFSETTO:-0500
RDATE:20270314T020000
END:DAYLIGHT
END:VTIMEZONE
BEGIN:VEVENT
UID:fb80e15a-91a5-49c5-a76d-849d6de8d8c7
DTSTAMP:20260422T085357Z
DESCRIPTION:
DTSTART;TZID=America/Chicago:20260421T050000
DTEND;TZID=America/Chicago:20260423T050001
LOCATION:Kirksville High School\, Kirksville\, MO
SUMMARY:School Presentation: Kirksville High School
END:VEVENT
END:VCALENDAR
