BEGIN:VCALENDAR
VERSION:2.0
PRODID:-//lifelinemo.org//NONSGML kigkonsult.se iCalcreator 2.30.10//
CALSCALE:GREGORIAN
METHOD:PUBLISH
UID:8ffe0974-bf43-4044-95e7-3c380bbe3b05
X-WR-CALDESC:
X-WR-RELCALID:23fecc98484be5597a550efa7e96ca2f
X-WR-TIMEZONE:America/Chicago
BEGIN:VTIMEZONE
TZID:America/Chicago
BEGIN:STANDARD
TZNAME:CST
DTSTART:20251102T020000
TZOFFSETFROM:-0500
TZOFFSETTO:-0600
RDATE:20261101T020000
END:STANDARD
BEGIN:DAYLIGHT
TZNAME:CDT
DTSTART:20260308T020000
TZOFFSETFROM:-0600
TZOFFSETTO:-0500
RDATE:20270314T020000
END:DAYLIGHT
END:VTIMEZONE
BEGIN:VEVENT
UID:bccca4eb-8125-446a-9832-cbab0afd845c
DTSTAMP:20260424T091645Z
DESCRIPTION:
DTSTART;TZID=America/Chicago:20260421T050000
DTEND;TZID=America/Chicago:20260423T050001
LOCATION:Ottumwa Christian School\, Ottumwa\, IA
SUMMARY:School Presentation: Ottumwa Christian School
END:VEVENT
END:VCALENDAR
