BEGIN:VCALENDAR
VERSION:2.0
PRODID:-//lifelinemo.org//NONSGML kigkonsult.se iCalcreator 2.30.10//
CALSCALE:GREGORIAN
METHOD:PUBLISH
UID:7805535c-6440-4be6-aedc-2b081e6d4d56
X-WR-CALDESC:
X-WR-RELCALID:3df2b3895db34616a49eb9c68bb00211
X-WR-TIMEZONE:America/Chicago
BEGIN:VTIMEZONE
TZID:America/Chicago
BEGIN:STANDARD
TZNAME:CST
DTSTART:20251102T020000
TZOFFSETFROM:-0500
TZOFFSETTO:-0600
RDATE:20261101T020000
END:STANDARD
BEGIN:DAYLIGHT
TZNAME:CDT
DTSTART:20260308T020000
TZOFFSETFROM:-0600
TZOFFSETTO:-0500
RDATE:20270314T020000
END:DAYLIGHT
END:VTIMEZONE
BEGIN:VEVENT
UID:c61a4e87-67b3-4128-92e5-2b8e4e68c066
DTSTAMP:20260421T141004Z
DESCRIPTION:
DTSTART;TZID=America/Chicago:20260421T050000
DTEND;TZID=America/Chicago:20260423T050001
LOCATION:Wheatland\, IA
SUMMARY:School Presentation: Cal-Wheat / Bennet
END:VEVENT
END:VCALENDAR
