BEGIN:VCALENDAR
VERSION:2.0
PRODID:-//lifelinemo.org//NONSGML kigkonsult.se iCalcreator 2.30.10//
CALSCALE:GREGORIAN
METHOD:PUBLISH
UID:554b7e74-a50c-4fe6-96e5-5582f4f72f0a
X-WR-CALDESC:
X-WR-RELCALID:84aeeaa6a35ab2ef390aca60e411715a
X-WR-TIMEZONE:America/Chicago
BEGIN:VTIMEZONE
TZID:America/Chicago
BEGIN:STANDARD
TZNAME:CST
DTSTART:20251102T020000
TZOFFSETFROM:-0500
TZOFFSETTO:-0600
RDATE:20261101T020000
END:STANDARD
BEGIN:DAYLIGHT
TZNAME:CDT
DTSTART:20260308T020000
TZOFFSETFROM:-0600
TZOFFSETTO:-0500
RDATE:20270314T020000
END:DAYLIGHT
END:VTIMEZONE
BEGIN:VEVENT
UID:5c33dc59-f815-4d8d-bb61-a1167b9bd373
DTSTAMP:20260421T141005Z
DESCRIPTION:
DTSTART;TZID=America/Chicago:20260428T050000
DTEND;TZID=America/Chicago:20260430T050001
LOCATION:Centerville High School\, Centerville\, IA
SUMMARY:School Presentation: Centerville High School
END:VEVENT
END:VCALENDAR
