BEGIN:VCALENDAR
VERSION:2.0
PRODID:-//lifelinemo.org//NONSGML kigkonsult.se iCalcreator 2.30.10//
CALSCALE:GREGORIAN
METHOD:PUBLISH
UID:d36ddf7b-3a37-4a12-a649-f748b9fbadbe
X-WR-CALDESC:
X-WR-RELCALID:02c6b473c5fd556e0403568154e11bbf
X-WR-TIMEZONE:America/Chicago
BEGIN:VTIMEZONE
TZID:America/Chicago
BEGIN:STANDARD
TZNAME:CST
DTSTART:20251102T020000
TZOFFSETFROM:-0500
TZOFFSETTO:-0600
RDATE:20261101T020000
END:STANDARD
BEGIN:DAYLIGHT
TZNAME:CDT
DTSTART:20260308T020000
TZOFFSETFROM:-0600
TZOFFSETTO:-0500
RDATE:20270314T020000
END:DAYLIGHT
END:VTIMEZONE
BEGIN:VEVENT
UID:e25bf8ec-b2b2-419d-8a02-9b96ecf6a735
DTSTAMP:20260421T141004Z
DESCRIPTION:
DTSTART;TZID=America/Chicago:20260428T050000
DTEND;TZID=America/Chicago:20260430T050001
LOCATION:Macon High School\, Macon\, MO
SUMMARY:School Presentation: Macon High School
END:VEVENT
END:VCALENDAR
