BEGIN:VCALENDAR
VERSION:2.0
PRODID:-//lifelinemo.org//NONSGML kigkonsult.se iCalcreator 2.30.10//
CALSCALE:GREGORIAN
METHOD:PUBLISH
UID:8f7e8456-6a66-4255-80ed-c766366f89a4
X-WR-CALDESC:
X-WR-RELCALID:566cdced09ea89b9dc078433ca6b609b
X-WR-TIMEZONE:America/Chicago
BEGIN:VTIMEZONE
TZID:America/Chicago
BEGIN:STANDARD
TZNAME:CST
DTSTART:20251102T020000
TZOFFSETFROM:-0500
TZOFFSETTO:-0600
RDATE:20261101T020000
END:STANDARD
BEGIN:DAYLIGHT
TZNAME:CDT
DTSTART:20260308T020000
TZOFFSETFROM:-0600
TZOFFSETTO:-0500
RDATE:20270314T020000
END:DAYLIGHT
END:VTIMEZONE
BEGIN:VEVENT
UID:93db1800-41de-455e-8c80-23aff33a277f
DTSTAMP:20260421T141036Z
DESCRIPTION:
DTSTART;TZID=America/Chicago:20260428T050000
DTEND;TZID=America/Chicago:20260430T050001
LOCATION:South Harrison High School\, Bethany\, MO
SUMMARY:School Presentation: South Harrison High School
END:VEVENT
END:VCALENDAR
