BEGIN:VCALENDAR
VERSION:2.0
PRODID:-//lifelinemo.org//NONSGML kigkonsult.se iCalcreator 2.30.10//
CALSCALE:GREGORIAN
METHOD:PUBLISH
UID:db6d763f-4d09-4184-b737-81f3584a431d
X-WR-CALDESC:
X-WR-RELCALID:de5c38452c7ca41a4a1b16174622907b
X-WR-TIMEZONE:America/Chicago
BEGIN:VTIMEZONE
TZID:America/Chicago
BEGIN:STANDARD
TZNAME:CST
DTSTART:20251102T020000
TZOFFSETFROM:-0500
TZOFFSETTO:-0600
RDATE:20261101T020000
END:STANDARD
BEGIN:DAYLIGHT
TZNAME:CDT
DTSTART:20260308T020000
TZOFFSETFROM:-0600
TZOFFSETTO:-0500
RDATE:20270314T020000
END:DAYLIGHT
END:VTIMEZONE
BEGIN:VEVENT
UID:db23066d-821b-44fd-8e0d-2697b430f1d8
DTSTAMP:20260422T022058Z
DESCRIPTION:
DTSTART;TZID=America/Chicago:20260504T050000
DTEND;TZID=America/Chicago:20260504T050001
LOCATION:Life Church School\, Kirksville\, MO 63501 US
SUMMARY:School Presentation: Life Church School
END:VEVENT
END:VCALENDAR
