BEGIN:VCALENDAR
VERSION:2.0
PRODID:-//lifelinemo.org//NONSGML kigkonsult.se iCalcreator 2.30.10//
CALSCALE:GREGORIAN
METHOD:PUBLISH
UID:1725c477-741c-4aa9-8e95-3d2a71bb70a3
X-WR-CALDESC:
X-WR-RELCALID:ad36765858c8d7414efdfbba3e50bf4d
X-WR-TIMEZONE:America/Chicago
BEGIN:VTIMEZONE
TZID:America/Chicago
BEGIN:STANDARD
TZNAME:CST
DTSTART:20251102T020000
TZOFFSETFROM:-0500
TZOFFSETTO:-0600
RDATE:20261101T020000
END:STANDARD
BEGIN:DAYLIGHT
TZNAME:CDT
DTSTART:20260308T020000
TZOFFSETFROM:-0600
TZOFFSETTO:-0500
RDATE:20270314T020000
END:DAYLIGHT
END:VTIMEZONE
BEGIN:VEVENT
UID:88f8d1e9-b8c7-4634-aada-22e265bd24ca
DTSTAMP:20260421T160824Z
DESCRIPTION:
DTSTART;TZID=America/Chicago:20260505T050000
DTEND;TZID=America/Chicago:20260507T050001
LOCATION:Grundy County R-V Schools\, Galt\, MO
SUMMARY:School Presentation: Grundy County R-V School District
END:VEVENT
END:VCALENDAR
