BEGIN:VCALENDAR
VERSION:2.0
PRODID:-//lifelinemo.org//NONSGML kigkonsult.se iCalcreator 2.30.10//
CALSCALE:GREGORIAN
METHOD:PUBLISH
UID:9dfd3f75-a620-4555-88c4-baa9405f21f2
X-WR-CALDESC:
X-WR-RELCALID:93152150ba1a8735d14bd887877a04df
X-WR-TIMEZONE:America/Chicago
BEGIN:VTIMEZONE
TZID:America/Chicago
BEGIN:STANDARD
TZNAME:CST
DTSTART:20251102T020000
TZOFFSETFROM:-0500
TZOFFSETTO:-0600
RDATE:20261101T020000
END:STANDARD
BEGIN:DAYLIGHT
TZNAME:CDT
DTSTART:20260308T020000
TZOFFSETFROM:-0600
TZOFFSETTO:-0500
RDATE:20270314T020000
END:DAYLIGHT
END:VTIMEZONE
BEGIN:VEVENT
UID:c9c265fa-87c4-4550-b1d1-fd9844dfdc01
DTSTAMP:20260421T161850Z
DESCRIPTION:
DTSTART;TZID=America/Chicago:20260506T050000
DTEND;TZID=America/Chicago:20260508T050001
LOCATION:Knox County Schools\, Edina\, MO
SUMMARY:School Presentation: Knox County School District
END:VEVENT
END:VCALENDAR
