BEGIN:VCALENDAR
VERSION:2.0
PRODID:-//lifelinemo.org//NONSGML kigkonsult.se iCalcreator 2.30.10//
CALSCALE:GREGORIAN
METHOD:PUBLISH
UID:cd0d74bc-6e40-4fa9-9de8-90a454093a51
X-WR-CALDESC:
X-WR-RELCALID:c95986ddc81d729095edc7dfc22714d1
X-WR-TIMEZONE:America/Chicago
BEGIN:VTIMEZONE
TZID:America/Chicago
BEGIN:STANDARD
TZNAME:CST
DTSTART:20251102T020000
TZOFFSETFROM:-0500
TZOFFSETTO:-0600
RDATE:20261101T020000
END:STANDARD
BEGIN:DAYLIGHT
TZNAME:CDT
DTSTART:20260308T020000
TZOFFSETFROM:-0600
TZOFFSETTO:-0500
RDATE:20270314T020000
END:DAYLIGHT
END:VTIMEZONE
BEGIN:VEVENT
UID:82ed48ea-0d13-43ba-9f4a-5637c0956be3
DTSTAMP:20260421T162359Z
DESCRIPTION:
DTSTART;TZID=America/Chicago:20260505T050000
DTEND;TZID=America/Chicago:20260508T050001
LOCATION:Moberly Middle School\, Moberly\, MO
SUMMARY:School Presentation: Moberly Middle School
END:VEVENT
END:VCALENDAR
