BEGIN:VCALENDAR
VERSION:2.0
PRODID:-//lifelinemo.org//NONSGML kigkonsult.se iCalcreator 2.30.10//
CALSCALE:GREGORIAN
METHOD:PUBLISH
UID:cc8dfb6f-5b4e-409d-baa3-1a250d3f7f0e
X-WR-CALDESC:
X-WR-RELCALID:5c204edd9716c60af3c597132aebc3df
X-WR-TIMEZONE:America/Chicago
BEGIN:VTIMEZONE
TZID:America/Chicago
BEGIN:STANDARD
TZNAME:CST
DTSTART:20251102T020000
TZOFFSETFROM:-0500
TZOFFSETTO:-0600
RDATE:20261101T020000
RDATE:20271107T020000
END:STANDARD
BEGIN:DAYLIGHT
TZNAME:CDT
DTSTART:20260308T020000
TZOFFSETFROM:-0600
TZOFFSETTO:-0500
RDATE:20270314T020000
END:DAYLIGHT
END:VTIMEZONE
BEGIN:VEVENT
UID:f4cb1ce3-66bd-4ee7-815c-fd5df0f59953
DTSTAMP:20260421T144320Z
DESCRIPTION:
DTSTART;TZID=America/Chicago:20260512T050000
DTEND;TZID=America/Chicago:20260513T050001
LOCATION:Moberly Middle School\, Moberly\, MO
SUMMARY:School Presentation: Moberly Middle School
END:VEVENT
END:VCALENDAR
