BEGIN:VCALENDAR
VERSION:2.0
PRODID:-//lifelinemo.org//NONSGML kigkonsult.se iCalcreator 2.30.10//
CALSCALE:GREGORIAN
METHOD:PUBLISH
UID:6ae54c68-0d19-4021-a7b1-b4a621fc80ab
X-WR-CALDESC:
X-WR-RELCALID:3cd50e6f8f06efc3719877dfa39daac5
X-WR-TIMEZONE:America/Chicago
BEGIN:VTIMEZONE
TZID:America/Chicago
BEGIN:STANDARD
TZNAME:CST
DTSTART:20251102T020000
TZOFFSETFROM:-0500
TZOFFSETTO:-0600
RDATE:20261101T020000
RDATE:20271107T020000
END:STANDARD
BEGIN:DAYLIGHT
TZNAME:CDT
DTSTART:20260308T020000
TZOFFSETFROM:-0600
TZOFFSETTO:-0500
RDATE:20270314T020000
END:DAYLIGHT
END:VTIMEZONE
BEGIN:VEVENT
UID:08e6f025-9709-4c0a-8db7-2b0848873603
DTSTAMP:20260422T022201Z
DESCRIPTION:
DTSTART;TZID=America/Chicago:20260513T050000
DTEND;TZID=America/Chicago:20260515T050001
LOCATION:Kirksville High School\, Kirksville\, MO 63501 US
SUMMARY:School Presentation: Kirksville High School
END:VEVENT
END:VCALENDAR
