BEGIN:VCALENDAR
VERSION:2.0
PRODID:-//lifelinemo.org//NONSGML kigkonsult.se iCalcreator 2.30.10//
CALSCALE:GREGORIAN
METHOD:PUBLISH
UID:4d67c093-ed2e-4f4e-a76f-7bbc32302d58
X-WR-CALDESC:
X-WR-RELCALID:1ee67497e2f63c20f2e9dfcca16c21b2
X-WR-TIMEZONE:America/Chicago
BEGIN:VTIMEZONE
TZID:America/Chicago
BEGIN:STANDARD
TZNAME:CST
DTSTART:20251102T020000
TZOFFSETFROM:-0500
TZOFFSETTO:-0600
RDATE:20261101T020000
RDATE:20271107T020000
END:STANDARD
BEGIN:DAYLIGHT
TZNAME:CDT
DTSTART:20260308T020000
TZOFFSETFROM:-0600
TZOFFSETTO:-0500
RDATE:20270314T020000
END:DAYLIGHT
END:VTIMEZONE
BEGIN:VEVENT
UID:fb949894-a4e7-4eb5-a0ba-1b18a309cb7c
DTSTAMP:20260421T160458Z
DESCRIPTION:
DTSTART;TZID=America/Chicago:20260512T050000
DTEND;TZID=America/Chicago:20260514T050001
LOCATION:Lewis County Schools\, Lewistown\, MO
SUMMARY:School Presentation: Lewis County C-1 School District
END:VEVENT
END:VCALENDAR
