BEGIN:VCALENDAR
VERSION:2.0
PRODID:-//lifelinemo.org//NONSGML kigkonsult.se iCalcreator 2.30.10//
CALSCALE:GREGORIAN
METHOD:PUBLISH
UID:c544b1f5-d29a-4223-b51c-117582a2dd37
X-WR-CALDESC:
X-WR-RELCALID:0577a72fc962fe58ea017dfa00acbd5b
X-WR-TIMEZONE:America/Chicago
BEGIN:VTIMEZONE
TZID:America/Chicago
BEGIN:STANDARD
TZNAME:CST
DTSTART:20251102T020000
TZOFFSETFROM:-0500
TZOFFSETTO:-0600
RDATE:20261101T020000
RDATE:20271107T020000
END:STANDARD
BEGIN:DAYLIGHT
TZNAME:CDT
DTSTART:20260308T020000
TZOFFSETFROM:-0600
TZOFFSETTO:-0500
RDATE:20270314T020000
END:DAYLIGHT
END:VTIMEZONE
BEGIN:VEVENT
UID:79f6f7e7-61eb-47f7-b55e-df4e523cd1d7
DTSTAMP:20260421T161648Z
DESCRIPTION:
DTSTART;TZID=America/Chicago:20260512T050000
DTEND;TZID=America/Chicago:20260515T050001
LOCATION:Pella Christian School\, Pella\, IA
SUMMARY:School Presentation: Pella Christian School
END:VEVENT
END:VCALENDAR
