BEGIN:VCALENDAR
VERSION:2.0
PRODID:-//lifelinemo.org//NONSGML kigkonsult.se iCalcreator 2.30.10//
CALSCALE:GREGORIAN
METHOD:PUBLISH
UID:efee6f8e-a4a0-4aff-9738-33b3946181af
X-WR-CALDESC:This curriculum certification program includes distinct one-ho
 ur lessons that equip youth with a medically-accurate understanding of pre
 gnancy & human development in the womb\, with up-to-date research and inte
 ractive activities & discussion.
X-WR-RELCALID:74650983b3458dda0edd5fa5cc67b859
X-WR-TIMEZONE:America/Chicago
BEGIN:VTIMEZONE
TZID:America/Chicago
BEGIN:STANDARD
TZNAME:CST
DTSTART:20251102T020000
TZOFFSETFROM:-0500
TZOFFSETTO:-0600
RDATE:20261101T020000
RDATE:20271107T020000
END:STANDARD
BEGIN:DAYLIGHT
TZNAME:CDT
DTSTART:20260308T020000
TZOFFSETFROM:-0600
TZOFFSETTO:-0500
RDATE:20270314T020000
END:DAYLIGHT
END:VTIMEZONE
BEGIN:VEVENT
UID:31bf93b9-eb82-40fa-b381-7d9cef5fa3b7
DTSTAMP:20260421T161243Z
DESCRIPTION:This curriculum certification program includes distinct one-hou
 r lessons that equip youth with a medically-accurate understanding of preg
 nancy & human development in the womb\, with up-to-date research and inter
 active activities & discussion.
DTSTART;TZID=America/Chicago:20260602T090000
DTEND;TZID=America/Chicago:20260602T160000
LOCATION:230 9th Avenue North\, Fort Dodge\, IA 50501 US
SUMMARY:Human Growth & Development Curriculum Training - Fort Dodge
END:VEVENT
END:VCALENDAR
