BEGIN:VCALENDAR
VERSION:2.0
PRODID:-//lifelinemo.org//NONSGML kigkonsult.se iCalcreator 2.30.10//
CALSCALE:GREGORIAN
METHOD:PUBLISH
UID:d3a7da8c-6e1f-4d3d-8388-2c5ae64d9abd
X-WR-CALDESC:
X-WR-RELCALID:6241dc6f39872809bb47a9cdb01a5a4f
X-WR-TIMEZONE:America/Chicago
BEGIN:VTIMEZONE
TZID:America/Chicago
BEGIN:STANDARD
TZNAME:CST
DTSTART:20251102T020000
TZOFFSETFROM:-0500
TZOFFSETTO:-0600
RDATE:20261101T020000
RDATE:20271107T020000
END:STANDARD
BEGIN:DAYLIGHT
TZNAME:CDT
DTSTART:20260308T020000
TZOFFSETFROM:-0600
TZOFFSETTO:-0500
RDATE:20270314T020000
END:DAYLIGHT
END:VTIMEZONE
BEGIN:VEVENT
UID:994c372c-47b8-4b61-94a4-d7272fc5d9ba
DTSTAMP:20260421T160612Z
DESCRIPTION:
DTSTART;TZID=America/Chicago:20260608T143000
DTEND;TZID=America/Chicago:20260623T153000
LOCATION:Lifeline\, 1515 N New Street\, Kirksville\, MO 63501 US
SUMMARY:Group Class: Infant Nutrition
END:VEVENT
END:VCALENDAR
