BEGIN:VCALENDAR
VERSION:2.0
PRODID:-//lifelinemo.org//NONSGML kigkonsult.se iCalcreator 2.30.10//
CALSCALE:GREGORIAN
METHOD:PUBLISH
UID:c8b87c47-8f64-4ef6-9b7f-a716b7fb08c0
X-WR-CALDESC:This curriculum certification program includes distinct one-ho
 ur lessons that equip youth with a medically-accurate understanding of pre
 gnancy & human development in the womb\, with up-to-date research and inte
 ractive activities & discussion.
X-WR-RELCALID:aaae4f47c539739c363354945ac198cf
X-WR-TIMEZONE:America/Chicago
BEGIN:VTIMEZONE
TZID:America/Chicago
BEGIN:STANDARD
TZNAME:CST
DTSTART:20251102T020000
TZOFFSETFROM:-0500
TZOFFSETTO:-0600
RDATE:20261101T020000
RDATE:20271107T020000
END:STANDARD
BEGIN:DAYLIGHT
TZNAME:CDT
DTSTART:20260308T020000
TZOFFSETFROM:-0600
TZOFFSETTO:-0500
RDATE:20270314T020000
END:DAYLIGHT
END:VTIMEZONE
BEGIN:VEVENT
UID:fcb25618-4e4e-43c3-90c4-beca46ee997f
DTSTAMP:20260421T163916Z
DESCRIPTION:This curriculum certification program includes distinct one-hou
 r lessons that equip youth with a medically-accurate understanding of preg
 nancy & human development in the womb\, with up-to-date research and inter
 active activities & discussion.
DTSTART;TZID=America/Chicago:20260622T090000
DTEND;TZID=America/Chicago:20260622T160000
LOCATION:Oskaloosa\, IA
SUMMARY:Human Growth & Development Curriculum Training - Oskaloosa\, IA
END:VEVENT
END:VCALENDAR
