BEGIN:VCALENDAR
VERSION:2.0
PRODID:-//lifelinemo.org//NONSGML kigkonsult.se iCalcreator 2.30.10//
CALSCALE:GREGORIAN
METHOD:PUBLISH
UID:3d885be2-1577-48b4-8760-b3006026bff4
X-WR-CALDESC:
X-WR-RELCALID:ca3a37f16fd87184a74602d496cfacaf
X-WR-TIMEZONE:America/Chicago
BEGIN:VTIMEZONE
TZID:America/Chicago
BEGIN:STANDARD
TZNAME:CST
DTSTART:20251102T020000
TZOFFSETFROM:-0500
TZOFFSETTO:-0600
RDATE:20261101T020000
RDATE:20271107T020000
END:STANDARD
BEGIN:DAYLIGHT
TZNAME:CDT
DTSTART:20260308T020000
TZOFFSETFROM:-0600
TZOFFSETTO:-0500
RDATE:20270314T020000
END:DAYLIGHT
END:VTIMEZONE
BEGIN:VEVENT
UID:379fb8ef-58f7-4869-b9ea-d9feb61a1871
DTSTAMP:20260421T160458Z
DESCRIPTION:
DTSTART;TZID=America/Chicago:20260624T100000
DTEND;TZID=America/Chicago:20260624T110000
LOCATION:Lifeline\, 1515 N New Street\, Kirksville\, MO 63501 US
SUMMARY:Connection Groups: Infant Parenting
END:VEVENT
END:VCALENDAR
