BEGIN:VCALENDAR
VERSION:2.0
PRODID:-//lifelinemo.org//NONSGML kigkonsult.se iCalcreator 2.30.10//
CALSCALE:GREGORIAN
METHOD:PUBLISH
UID:9ae23baa-e96e-43d5-9b5b-8d4c2e981a40
X-WR-CALDESC:This curriculum certification program includes distinct one-ho
 ur lessons that equip youth with a medically-accurate understanding of pre
 gnancy & human development in the womb\, with up-to-date research and inte
 ractive activities & discussion.
X-WR-RELCALID:72c40602637d24f099155d7e67dca10f
X-WR-TIMEZONE:America/Chicago
BEGIN:VTIMEZONE
TZID:America/Chicago
BEGIN:STANDARD
TZNAME:CST
DTSTART:20251102T020000
TZOFFSETFROM:-0500
TZOFFSETTO:-0600
RDATE:20261101T020000
RDATE:20271107T020000
END:STANDARD
BEGIN:DAYLIGHT
TZNAME:CDT
DTSTART:20260308T020000
TZOFFSETFROM:-0600
TZOFFSETTO:-0500
RDATE:20270314T020000
END:DAYLIGHT
END:VTIMEZONE
BEGIN:VEVENT
UID:7e4a5be4-e1ac-458c-a744-f5aa2539b8d5
DTSTAMP:20260421T161150Z
DESCRIPTION:This curriculum certification program includes distinct one-hou
 r lessons that equip youth with a medically-accurate understanding of preg
 nancy & human development in the womb\, with up-to-date research and inter
 active activities & discussion.
DTSTART;TZID=America/Chicago:20260630T090000
DTEND;TZID=America/Chicago:20260630T160000
LOCATION:500 Army Post Rd STE 100\, Des Moines\, IA 50315 US
SUMMARY:Human Growth & Development Curriculum Training - Des Moines\, IA
END:VEVENT
END:VCALENDAR
