BEGIN:VCALENDAR
VERSION:2.0
PRODID:-//lifelinemo.org//NONSGML kigkonsult.se iCalcreator 2.30.10//
CALSCALE:GREGORIAN
METHOD:PUBLISH
UID:205517e1-f5c0-4c76-977e-12ac9264097a
X-WR-CALDESC:
X-WR-RELCALID:f9ecb9de037a0e68847b44f690911076
X-WR-TIMEZONE:America/Chicago
BEGIN:VTIMEZONE
TZID:America/Chicago
BEGIN:STANDARD
TZNAME:CST
DTSTART:20251102T020000
TZOFFSETFROM:-0500
TZOFFSETTO:-0600
RDATE:20261101T020000
RDATE:20271107T020000
END:STANDARD
BEGIN:DAYLIGHT
TZNAME:CDT
DTSTART:20260308T020000
TZOFFSETFROM:-0600
TZOFFSETTO:-0500
RDATE:20270314T020000
END:DAYLIGHT
END:VTIMEZONE
BEGIN:VEVENT
UID:73d25d01-b938-4723-977c-6c0ca12c73b2
DTSTAMP:20260421T180050Z
DESCRIPTION:
DTSTART;TZID=America/Chicago:20260701T100000
DTEND;TZID=America/Chicago:20260701T110000
LOCATION:Lifeline\, 1515 New Street\, Kirksville\, MO 63501 US
SUMMARY:Connection Groups: Early Pregnancy
END:VEVENT
END:VCALENDAR
