BEGIN:VCALENDAR
VERSION:2.0
PRODID:-//lifelinemo.org//NONSGML kigkonsult.se iCalcreator 2.30.10//
CALSCALE:GREGORIAN
METHOD:PUBLISH
UID:e8ea7469-16ef-47b3-b450-8634d8442c55
X-WR-CALDESC:This curriculum certification program includes distinct one-ho
 ur lessons that equip youth with a medically-accurate understanding of pre
 gnancy & human development in the womb\, with up-to-date research and inte
 ractive activities & discussion.
X-WR-RELCALID:b0ad692cfcbbd13ede6f99fa7060860f
X-WR-TIMEZONE:America/Chicago
BEGIN:VTIMEZONE
TZID:America/Chicago
BEGIN:STANDARD
TZNAME:CST
DTSTART:20251102T020000
TZOFFSETFROM:-0500
TZOFFSETTO:-0600
RDATE:20261101T020000
RDATE:20271107T020000
END:STANDARD
BEGIN:DAYLIGHT
TZNAME:CDT
DTSTART:20260308T020000
TZOFFSETFROM:-0600
TZOFFSETTO:-0500
RDATE:20270314T020000
END:DAYLIGHT
END:VTIMEZONE
BEGIN:VEVENT
UID:7ab2e465-c8a9-42b8-9a4e-8456891ce1da
DTSTAMP:20260421T175756Z
DESCRIPTION:This curriculum certification program includes distinct one-hou
 r lessons that equip youth with a medically-accurate understanding of preg
 nancy & human development in the womb\, with up-to-date research and inter
 active activities & discussion.
DTSTART;TZID=America/Chicago:20260716T090000
DTEND;TZID=America/Chicago:20260716T170000
LOCATION:9001 Fluer Drive\, Norwalk\, IA 50211 US
SUMMARY:Human Growth & Development Curriculum Training
END:VEVENT
END:VCALENDAR
