BEGIN:VCALENDAR
VERSION:2.0
PRODID:-//lifelinemo.org//NONSGML kigkonsult.se iCalcreator 2.30.10//
CALSCALE:GREGORIAN
METHOD:PUBLISH
UID:7dc5d939-1149-474c-8420-9d326852f7de
X-WR-CALDESC:
X-WR-RELCALID:37f4752af71592342554e1aba5107e43
X-WR-TIMEZONE:America/Chicago
BEGIN:VTIMEZONE
TZID:America/Chicago
BEGIN:STANDARD
TZNAME:CST
DTSTART:20251102T020000
TZOFFSETFROM:-0500
TZOFFSETTO:-0600
RDATE:20261101T020000
RDATE:20271107T020000
END:STANDARD
BEGIN:DAYLIGHT
TZNAME:CDT
DTSTART:20260308T020000
TZOFFSETFROM:-0600
TZOFFSETTO:-0500
RDATE:20270314T020000
END:DAYLIGHT
END:VTIMEZONE
BEGIN:VEVENT
UID:cd63007c-b42e-45bd-822b-39dfa4d16e8d
DTSTAMP:20260421T213226Z
DESCRIPTION:
DTSTART;TZID=America/Chicago:20260803T110000
DTEND;TZID=America/Chicago:20260803T120000
LOCATION:635 S Main St\, Brookfield\, MO 64628 US
SUMMARY:Mobile Clinic: Brookfield\, MO
END:VEVENT
END:VCALENDAR
